BEGIN:VCALENDAR
VERSION:2.0
PRODID:-//Tukios.com/
BEGIN:VEVENT
UID:f6f10f57-beaf-4ce4-8617-4f07903d5f56@www.throopfh.com
DTSTAMP:20260425T003331Z
DTSTART:20260509T160000Z
DTEND:20260509T170000Z
SUMMARY:Luncheon
DESCRIPTION:
URL:https://www.throopfh.com/obituaries/rickey-draft
LOCATION: 511 68th Ave N  Coopersville MI 49404
GEO:43.0694259;-85.9573658
END:VEVENT
END:VCALENDAR