BEGIN:VCALENDAR
VERSION:2.0
PRODID:-//Tukios.com/
BEGIN:VEVENT
UID:4db0b888-e67f-4d23-864a-4f817cf85836@www.throopfh.com
DTSTAMP:20260425T003545Z
DTSTART:20260509T140000Z
DTEND:20260509T150000Z
SUMMARY:Memorial Service
DESCRIPTION:
URL:https://www.throopfh.com/obituaries/rickey-draft
LOCATION: 423 W Randall St  Coopersville MI 49404
GEO:43.060806;-85.938389
END:VEVENT
END:VCALENDAR