BEGIN:VCALENDAR
VERSION:2.0
PRODID:-//Tukios.com/
BEGIN:VEVENT
UID:ebf2d506-7b02-4796-9287-cb401f41fbd9@www.throopfh.com
DTSTAMP:20260425T003616Z
DTSTART:20260508T210000Z
DTEND:20260509T000000Z
SUMMARY:Visitation
DESCRIPTION:
URL:https://www.throopfh.com/obituaries/rickey-draft
LOCATION: 214 Church St  Coopersville MI 49404
GEO:43.0636091;-85.9328102
END:VEVENT
END:VCALENDAR