BEGIN:VCALENDAR
VERSION:2.0
PRODID:-//Tukios.com/
BEGIN:VEVENT
UID:82c6ad37-31f9-463f-8bf4-8e9c4d151326@www.throopfh.com
DTSTAMP:20260425T003331Z
DTSTART:20260508T170000Z
DTEND:20260508T190000Z
SUMMARY:Visitation
DESCRIPTION:
URL:https://www.throopfh.com/obituaries/rickey-draft
LOCATION: 214 Church St  Coopersville MI 49404
GEO:43.0636091;-85.9328102
END:VEVENT
END:VCALENDAR