BEGIN:VCALENDAR
VERSION:2.0
PRODID:-//Tukios.com/
BEGIN:VEVENT
UID:58fa8dab-4e73-47eb-aad8-18236cfd3456@www.throopfh.com
DTSTAMP:20260421T014535Z
DTSTART:20260501T223000Z
DTEND:20260501T233000Z
SUMMARY:Celebration of Life
DESCRIPTION:
URL:https://www.throopfh.com/obituaries/richard-bos-dick
LOCATION:Little Farms Chapel 2518 Arthur St E  Coopersville MI 49404
GEO:43.0597489;-85.8504191
END:VEVENT
END:VCALENDAR