BEGIN:VCALENDAR
VERSION:2.0
PRODID:-//Tukios.com/
BEGIN:VEVENT
UID:ce74d32f-89ca-4ea5-830c-136978801d9a@www.throopfh.com
DTSTAMP:20260421T032522Z
DTSTART:20260423T150000Z
DTEND:20260423T160000Z
SUMMARY:Graveside Service
DESCRIPTION:
URL:https://www.throopfh.com/obituaries/mildred-lang
LOCATION: 4098 Sahara Rd  Ravenna MI 49451
GEO:43.1743577;-86.0553596
END:VEVENT
END:VCALENDAR